BEGIN:VCALENDAR
VERSION:2.0
PRODID:-//NMEDSUP - ECPv6.8.2//NONSGML v1.0//EN
CALSCALE:GREGORIAN
METHOD:PUBLISH
X-ORIGINAL-URL:https://nmedsup.cl
X-WR-CALDESC:Events for NMEDSUP
REFRESH-INTERVAL;VALUE=DURATION:PT1H
X-Robots-Tag:noindex
X-PUBLISHED-TTL:PT1H
BEGIN:VTIMEZONE
TZID:America/Sao_Paulo
BEGIN:STANDARD
TZOFFSETFROM:-0200
TZOFFSETTO:-0300
TZNAME:-03
DTSTART:20190217T020000
END:STANDARD
END:VTIMEZONE
BEGIN:VEVENT
DTSTART;TZID=America/Sao_Paulo:20190702T140000
DTEND;TZID=America/Sao_Paulo:20190702T170000
DTSTAMP:20260424T083833
CREATED:20190624T141633Z
LAST-MODIFIED:20190624T141633Z
UID:1898-1562076000-1562086800@nmedsup.cl
SUMMARY:Webinar. Transición a la Educación Superior. Una revisión a la literatura y una acción concreta de una universidad chilena.
DESCRIPTION:Distintos autores indican que los profesionales de asuntos estudiantiles debieran tener como meta primaria mejorar el aprendizaje y el desarrollo del estudiante y facilitar las transiciones que se producen al ingreso\, durante la experiencia universitaria y en el paso de la universidad a la vida laboral u otros estudios. En este webinar se presentará una revisión a la literatura especializada de la transición desde la educación secundaria a la educación superior. Esta revisión fue realizada por el Núcleo Milenio Experiencias de los Estudiantes de la Educación Superior (EDSUP)\, Chile. La presentación incluye una revisión de las etapas que atraviesan los estudiantes y recomendaciones prácticas. Posteriormente\, en el mismo contexto\, se mostrará el parte del trabajo de apoyo al estudiante realizado desde la Dirección Académica de la Universidad Autónoma de Chile.  \nExponen:  \nPhD. Verónica Santelices\, Profesora Asociada\, Facultad de Educación Universidad Católica de Chile\, Investigadora y Directora Alterna de EDSUP MSc.  \nLuis Campos\, Director Académico\, Santiago\, Universidad Autónoma de Chile. \n\nInscripción
URL:https://nmedsup.cl/evento/webinar-transicion-a-la-educacion-superior-una-revision-a-la-literatura-y-una-accion-concreta-de-una-universidad-chilena/
CATEGORIES:Experiencia
END:VEVENT
BEGIN:VEVENT
DTSTART;TZID=America/Sao_Paulo:20190508T083000
DTEND;TZID=America/Sao_Paulo:20190508T120000
DTSTAMP:20260424T083833
CREATED:20190412T155820Z
LAST-MODIFIED:20190507T194812Z
UID:1707-1557304200-1557316800@nmedsup.cl
SUMMARY:Compromiso y experiencia estudiantil en Educación Superior: Desafíos institucionales
DESCRIPTION:Conocer la experiencia de los estudiantes en la Educación Superior es fundamental para el desarrollo de políticas públicas e institucionales y para la autoevaluación de los establecimientos de Educación Superior. Es por esto que Núcleo Milenio: Experiencias de los Estudiantes en Educación Superior en Chile (NMEdSup)\, invita al Seminario “Compromiso y experiencia estudiantil en Educación Superior: Desafíos Institucionales”\, en el cual se presentarán distintas visiones conceptuales sobre el compromiso estudiantil\, distintas formas de medirlo y posibles usos de dicha información. \nEl seminario contará con la participación de destacados investigadores internacionales en el tema: Hongbiao Yin\, y Alexander McCormick. Hongbiao Yin es profesor de la Universidad China de Hong Kong\, y en esta ocasión centrará su exposición en los elementos de continuidad existentes entre los conceptos de compromiso y experiencia estudiantil en Educación Superior. Por otro lado\, Alexander McCormick\, es director de la Encuesta Nacional de Compromiso Estudiantil (NSSE) de Estados Unidos y profesor en la Universidad de Indiana Bloomington. El profesor McCormick expondrá sobre la medición del compromiso a través de encuestas. Además\, profundizará sobre perfiles emergentes de estudiantes asociados a su compromiso y en las aplicaciones prácticas de los resultados de las mediciones. \nEl evento contará con traducción simultánea y tendrá lugar el miércoles 8 de mayo\, entre las 9:00 y las 12:00 en el Salón de Honor de la Casa Central de la Pontificia Universidad Católica. Las inscripciones y el programa del evento estarán disponibles desde el día miércoles 24 de abril. \n\n  \nInvitados internacionales:  \nHongbiao Yin\,\nProfesor titular de la Universidad China de Hong Kong.\nEl profesor Yin centrará su exposición en los elementos de continuidad existentes entre los conceptos de compromiso y experiencia estudiantil en Educación Superior. \nAlexander McCormick\,\nProfesor asociado en la Universidad de Indiana Bloomington y director de la Encuesta Nacional de Compromiso Estudiantil (NSSE) de Estados Unidos.\nEl profesor McCormick expondrá sobre la medición del compromiso a través de encuestas. Además\, profundizará sobre perfiles emergentes de estudiantes asociados a su compromiso y en las aplicaciones prácticas de los resultados de las mediciones. \n\n\nINSCRIPCIÓN\n \n\nPROGRAMA\n \n\nEl evento contará con traducción simultánea.  \nMiércoles 8 de Mayo\, 8:30 a 12:00 hrs. Salón de Honor\, Casa Central de la Pontificia Universidad Católica\, Alameda 340.
URL:https://nmedsup.cl/evento/compromiso-y-experiencias-estudiantil-en-educacion-superior/
LOCATION:Salón de Honor\, Casa Central\, Av. Libertador Bernardo O'higgins 340\, Santiago\, RM\, Chile
CATEGORIES:Compromiso,Experiencia
END:VEVENT
END:VCALENDAR